Workbook

Sheet Enrollment
A1: Program Name | B1: County | C1: ENROLLMENT
C2: Students enrolled as of September 30, 2025
C3: Nurse Practitioner | D3: Clinical Nurse Specialist | E3: Nurse Anesthetist | F3: Nurse Midwife | G3: Nursing Administration | H3: Nursing Education | I3: Nursing Informatics | J3: Clinical Nurse Leader | K3: Nursing Research | L3: Public Health | M3: DNP-No specialty | N3: All Other | O3: Total APRN - ONLY | P3: Total Graduate - ONLY | Q3: Total - ALL
A5: Abilene Christian University | B5: Dallas | G5: 14 | O5: =SUM(C5:F5) -> 0 | P5: =SUM(G5:N5) -> 14 | Q5: =SUM(O5:P5) -> 14
A6: Angelo State University | B6: Tom Green | C6: 55 | H6: 8 | O6: =SUM(C6:F6) -> 55 | P6: =SUM(G6:N6) -> 8 | Q6: =SUM(O6:P6) -> 63
A7: Baylor College of Medicine Doctor of Nursing Practice Program-Nurse Anesthesia | B7: Harris | E7: 77 | O7: =SUM(C7:F7) -> 77 | P7: =SUM(G7:N7) -> 0 | Q7: =SUM(O7:P7) -> 77
A8: Baylor University Louise Herrington School of Nursing | B8: Dallas | C8: 462 | E8: 93 | F8: 37 | G8: 21 | O8: =SUM(C8:F8) -> 592 | P8: =SUM(G8:N8) -> 21 | Q8: =SUM(O8:P8) -> 613
A9: East Texas A&M University | B9: Hunt | C9: 11 | O9: =SUM(C9:F9) -> 11 | P9: =SUM(G9:N9) -> 0 | Q9: =SUM(O9:P9) -> 11
A10: Houston Christian University | B10: Harris | C10: 79 | G10: 0 | H10: 3 | O10: =SUM(C10:F10) -> 79 | P10: =SUM(G10:N10) -> 3 | Q10: =SUM(O10:P10) -> 82
A11: Lamar University | B11: Jefferson | G11: 27 | H11: 38 | N11: 16 | O11: =SUM(C11:F11) -> 0 | P11: =SUM(G11:N11) -> 81 | Q11: =SUM(O11:P11) -> 81
A12: Lubbock Christian University | B12: Lubbock | C12: 13 | G12: 19 | H12: 19 | M12: 7 | O12: =SUM(C12:F12) -> 13 | P12: =SUM(G12:N12) -> 45 | Q12: =SUM(O12:P12) -> 58
A13: Midwestern State University | B13: Wichita | C13: 52 | O13: =SUM(C13:F13) -> 52 | P13: =SUM(G13:N13) -> 0 | Q13: =SUM(O13:P13) -> 52
A14: Patty Hanks Shelton School of Nursing | B14: Taylor | C14: 0 | H14: 1 | O14: =SUM(C14:F14) -> 0 | P14: =SUM(G14:N14) -> 1 | Q14: =SUM(O14:P14) -> 1
A15: Prairie View A&M University | B15: Harris | C15: 46 | G15: 1 | H15: 1 | O15: =SUM(C15:F15) -> 46 | P15: =SUM(G15:N15) -> 2 | Q15: =SUM(O15:P15) -> 48
A16: Schreiner University | B16: Kerr | C16: 20 | O16: =SUM(C16:F16) -> 20 | P16: =SUM(G16:N16) -> 0 | Q16: =SUM(O16:P16) -> 20
A17: Scott and White School of Nursing University of Mary Hardin-Baylor | B17: Bell | C17: 49 | H17: 6 | M17: 0 | O17: =SUM(C17:F17) -> 49 | P17: =SUM(G17:N17) -> 6 | Q17: =SUM(O17:P17) -> 55
A18: Stephen F Austin State University | B18: Nacogdoches | C18: 70 | H18: 19 | O18: =SUM(C18:F18) -> 70 | P18: =SUM(G18:N18) -> 19 | Q18: =SUM(O18:P18) -> 89
A19: Tarleton State University | B19: Erath | G19: 6 | H19: 13 | O19: =SUM(C19:F19) -> 0 | P19: =SUM(G19:N19) -> 19 | Q19: =SUM(O19:P19) -> 19
A20: Texas A&M Health Science Center | B20: Brazos | C20: 93 | H20: 32 | M20: 43 | N20: 30 | O20: =SUM(C20:F20) -> 93 | P20: =SUM(G20:N20) -> 105 | Q20: =SUM(O20:P20) -> 198
A21: Texas A&M International University | B21: Webb | C21: 214 | G21: 89 | O21: =SUM(C21:F21) -> 214 | P21: =SUM(G21:N21) -> 89 | Q21: =SUM(O21:P21) -> 303
A22: Texas A&M University - Texarkana Nursing Program | B22: Bowie | C22: 37 | G22: 6 | O22: =SUM(C22:F22) -> 37 | P22: =SUM(G22:N22) -> 6 | Q22: =SUM(O22:P22) -> 43
A23: Texas A&M University-Corpus Christi | B23: Nueces | C23: 125 | G23: 23 | H23: 9 | M23: 6 | O23: =SUM(C23:F23) -> 125 | P23: =SUM(G23:N23) -> 38 | Q23: =SUM(O23:P23) -> 163
A24: Texas Christian University | B24: Tarrant | C24: 49 | D24: 4 | E24: 173 | G24: 7 | H24: 4 | N24: 13 | O24: =SUM(C24:F24) -> 226 | P24: =SUM(G24:N24) -> 24 | Q24: =SUM(O24:P24) -> 250
A25: Texas State University | B25: Williamson | C25: 160 | G25: 0 | O25: =SUM(C25:F25) -> 160 | P25: =SUM(G25:N25) -> 0 | Q25: =SUM(O25:P25) -> 160
A26: Texas Tech University Health Sciences Center El Paso | B26: El Paso | G26: 16 | O26: =SUM(C26:F26) -> 0 | P26: =SUM(G26:N26) -> 16 | Q26: =SUM(O26:P26) -> 16
A27: Texas Tech University Health Sciences Center Lubbock | B27: Lubbock | C27: 464 | F27: 55 | G27: 115 | H27: 44 | I27: 36 | M27: 12 | O27: =SUM(C27:F27) -> 519 | P27: =SUM(G27:N27) -> 207 | Q27: =SUM(O27:P27) -> 726
A28: Texas Wesleyan University | B28: Tarrant | C28: 28 | M28: 6 | O28: =SUM(C28:F28) -> 28 | P28: =SUM(G28:N28) -> 6 | Q28: =SUM(O28:P28) -> 34
A29: Texas Wesleyan University- Graduate Program of Nurse Anesthesia | B29: Tarrant | E29: 219 | O29: =SUM(C29:F29) -> 219 | P29: =SUM(G29:N29) -> 0 | Q29: =SUM(O29:P29) -> 219
A30: Texas Woman's University College of Nursing | B30: Denton | C30: 1046 | H30: 43 | K30: 73 | M30: 50 | O30: =SUM(C30:F30) -> 1046 | P30: =SUM(G30:N30) -> 166 | Q30: =SUM(O30:P30) -> 1212
A31: The University of Texas at San Antonio/UT Health | B31: Bexar | C31: 128 | E31: 36 | G31: 17 | H31: 0 | J31: 0 | K31: 11 | L31: 0 | O31: =SUM(C31:F31) -> 164 | P31: =SUM(G31:N31) -> 28 | Q31: =SUM(O31:P31) -> 192
A32: University of Houston Andy and Barbara Gessner College of Nursing | B32: Fort Bend | C32: 11 | G32: 3 | H32: 3 | O32: =SUM(C32:F32) -> 11 | P32: =SUM(G32:N32) -> 6 | Q32: =SUM(O32:P32) -> 17
A33: University of North Texas Health Science Center - College of Nursing | B33: Tarrant | C33: 6 | N33: 24 | O33: =SUM(C33:F33) -> 6 | P33: =SUM(G33:N33) -> 24 | Q33: =SUM(O33:P33) -> 30
A34: University of St. Thomas | B34: Harris | C34: 35 | G34: 13 | H34: 8 | N34: 0 | O34: =SUM(C34:F34) -> 35 | P34: =SUM(G34:N34) -> 21 | Q34: =SUM(O34:P34) -> 56
A35: University of Texas at Arlington | B35: Tarrant | C35: 3546 | G35: 326 | H35: 243 | I35: 20 | K35: 33 | M35: 213 | O35: =SUM(C35:F35) -> 3546 | P35: =SUM(G35:N35) -> 835 | Q35: =SUM(O35:P35) -> 4381
A36: University of Texas at Austin | B36: Travis | C36: 62 | D36: 22 | K36: 32 | M36: 69 | N36: 89 | O36: =SUM(C36:F36) -> 84 | P36: =SUM(G36:N36) -> 190 | Q36: =SUM(O36:P36) -> 274
A37: University of Texas at El Paso | B37: El Paso | C37: 412 | G37: 43 | H37: 30 | M37: 28 | O37: =SUM(C37:F37) -> 412 | P37: =SUM(G37:N37) -> 101 | Q37: =SUM(O37:P37) -> 513
A38: University of Texas at Tyler | B38: Smith | C38: 651 | E38: 15 | G38: 96 | H38: 72 | I38: 157 | K38: 33 | M38: 74 | O38: =SUM(C38:F38) -> 666 | P38: =SUM(G38:N38) -> 432 | Q38: =SUM(O38:P38) -> 1098
A39: University of Texas Health Science Center at Houston | B39: Harris | C39: 468 | E39: 94 | G39: 43 | H39: 2 | I39: 3 | K39: 42 | M39: 30 | O39: =SUM(C39:F39) -> 562 | P39: =SUM(G39:N39) -> 120 | Q39: =SUM(O39:P39) -> 682
A40: University of Texas Medical Branch | B40: Galveston | C40: 301 | E40: 33 | G40: 18 | H40: 18 | J40: 12 | K40: 32 | M40: 30 | N40: 86 | O40: =SUM(C40:F40) -> 334 | P40: =SUM(G40:N40) -> 196 | Q40: =SUM(O40:P40) -> 530
A41: University of Texas Rio Grande Valley | B41: Hidalgo | C41: 89 | G41: 1 | H41: 2 | M41: 11 | O41: =SUM(C41:F41) -> 89 | P41: =SUM(G41:N41) -> 14 | Q41: =SUM(O41:P41) -> 103
A42: University of the Incarnate Word | B42: Bexar | C42: 17 | G42: 11 | O42: =SUM(C42:F42) -> 17 | P42: =SUM(G42:N42) -> 11 | Q42: =SUM(O42:P42) -> 28
A43: Wayland Baptist University | B43: Bexar | H43: 3 | O43: =SUM(C43:F43) -> 0 | P43: =SUM(G43:N43) -> 3 | Q43: =SUM(O43:P43) -> 3
A44: West Texas A&M University | B44: Randall | C44: 81 | G44: 7 | H44: 24 | O44: =SUM(C44:F44) -> 81 | P44: =SUM(G44:N44) -> 31 | Q44: =SUM(O44:P44) -> 112
A45: TOTAL- ALL PROGRAMS | C45: =SUM(C5:C44) -> 8880 | D45: =SUM(D5:D44) -> 26 | E45: =SUM(E5:E44) -> 740 | F45: =SUM(F5:F44) -> 92 | G45: =SUM(G5:G44) -> 922 | H45: =SUM(H5:H44) -> 645 | I45: =SUM(I5:I44) -> 216 | J45: =SUM(J5:J44) -> 12 | ... Q45: =SUM(Q5:Q44) -> 12626
A47: Legend for abbreviations
A48: APRN-Advanced Practice Registered Nurse, includes four program tracks including: Nurse Practitioner, Clinical Nurse Specialist, Nurse Anesthetist, and Nurse-Midwife
A49: Seats = seats for new students
A50: Offr'd Adm - the number of students offered admission
A51: Qual App - the number of qualified applicants
A52: Reg & enroll - the number of students registered and enrolled
A54: Notes: All data are obtained from self-reports from graduate nursing programs on the 2025 Board of Nursing's (BON) Nursing Education Program Information Survey (NEPIS). Included are enrollment, graduation, and admissions data for all graduate nursing education programs. This includes master's, post-graduate certificate, DNP/DNAP, PhD, and other doctoral programs. Reasons that qualified applicants were not offered admission are included in the 2025 GNEPIS fact sheets available on the TCNWS publications site: www.dshs.texas.gov/nursingworkforce/Nursing-Education-Reports/

Sheet Graduation
A1: Program Name | B1: County | C1: GRADUATION
C2: Academic Year 2024-2025 Graduates
C3: Nurse Practitioner | D3: Clinical Nurse Specialist | E3: Nurse Anesthetist | F3: Nurse Midwife | G3: Nursing Administration | H3: Nursing Education | I3: Nursing Informatics | J3: Clinical Nurse Leader | K3: Nursing Research | L3: Public Health | M3: DNP-No specialty | N3: All Other | O3: Total APRN - ONLY | P3: Total Graduate - ONLY | Q3: Total - ALL
A5: Abilene Christian University | B5: Dallas | G5: 12 | O5: =SUM(C5:F5) -> 0 | P5: =SUM(G5:N5) -> 12 | Q5: =SUM(O5:P5) -> 12
A6: Angelo State University | B6: Tom Green | C6: 15 | H6: 7 | O6: =SUM(C6:F6) -> 15 | P6: =SUM(G6:N6) -> 7 | Q6: =SUM(O6:P6) -> 22
A7: Baylor College of Medicine Doctor of Nursing Practice Program-Nurse Anesthesia | B7: Harris | E7: 27 | O7: =SUM(C7:F7) -> 27 | P7: =SUM(G7:N7) -> 0 | Q7: =SUM(O7:P7) -> 27
A8: Baylor University Louise Herrington School of Nursing | B8: Dallas | C8: 81 | E8: 31 | F8: 5 | G8: 10 | O8: =SUM(C8:F8) -> 117 | P8: =SUM(G8:N8) -> 10 | Q8: =SUM(O8:P8) -> 127
A9: East Texas A&M University | B9: Hunt | C9: 2 | O9: =SUM(C9:F9) -> 2 | P9: =SUM(G9:N9) -> 0 | Q9: =SUM(O9:P9) -> 2
A10: Houston Christian University | B10: Harris | C10: 16 | G10: 1 | H10: 1 | O10: =SUM(C10:F10) -> 16 | P10: =SUM(G10:N10) -> 2 | Q10: =SUM(O10:P10) -> 18
A11: Lamar University | B11: Jefferson | G11: 21 | H11: 22 | N11: 0 | O11: =SUM(C11:F11) -> 0 | P11: =SUM(G11:N11) -> 43 | Q11: =SUM(O11:P11) -> 43
A12: Lubbock Christian University | B12: Lubbock | C12: 10 | G12: 20 | H12: 16 | M12: 7 | O12: =SUM(C12:F12) -> 10 | P12: =SUM(G12:N12) -> 43 | Q12: =SUM(O12:P12) -> 53
A13: Midwestern State University | B13: Wichita | C13: 18 | O13: =SUM(C13:F13) -> 18 | P13: =SUM(G13:N13) -> 0 | Q13: =SUM(O13:P13) -> 18
A14: Patty Hanks Shelton School of Nursing | B14: Taylor | C14: 3 | H14: 1 | O14: =SUM(C14:F14) -> 3 | P14: =SUM(G14:N14) -> 1 | Q14: =SUM(O14:P14) -> 4
A15: Prairie View A&M University | B15: Harris | C15: 13 | G15: 0 | H15: 1 | O15: =SUM(C15:F15) -> 13 | P15: =SUM(G15:N15) -> 1 | Q15: =SUM(O15:P15) -> 14
A16: Schreiner University | B16: Kerr | C16: 0 | O16: =SUM(C16:F16) -> 0 | P16: =SUM(G16:N16) -> 0 | Q16: =SUM(O16:P16) -> 0
A17: Scott and White School of Nursing University of Mary Hardin-Baylor | B17: Bell | C17: 0 | H17: 0 | M17: 0 | O17: =SUM(C17:F17) -> 0 | P17: =SUM(G17:N17) -> 0 | Q17: =SUM(O17:P17) -> 0
A18: Stephen F Austin State University | B18: Nacogdoches | C18: 3 | H18: 4 | O18: =SUM(C18:F18) -> 3 | P18: =SUM(G18:N18) -> 4 | Q18: =SUM(O18:P18) -> 7
A19: Tarleton State University | B19: Erath | G19: 11 | H19: 10 | O19: =SUM(C19:F19) -> 0 | P19: =SUM(G19:N19) -> 21 | Q19: =SUM(O19:P19) -> 21
A20: Texas A&M Health Science Center | B20: Brazos | C20: 32 | H20: 10 | M20: 12 | N20: 7 | O20: =SUM(C20:F20) -> 32 | P20: =SUM(G20:N20) -> 29 | Q20: =SUM(O20:P20) -> 61
A21: Texas A&M International University | B21: Webb | C21: 27 | G21: 46 | O21: =SUM(C21:F21) -> 27 | P21: =SUM(G21:N21) -> 46 | Q21: =SUM(O21:P21) -> 73
A22: Texas A&M University - Texarkana Nursing Program | B22: Bowie | C22: 8 | G22: 3 | O22: =SUM(C22:F22) -> 8 | P22: =SUM(G22:N22) -> 3 | Q22: =SUM(O22:P22) -> 11
A23: Texas A&M University-Corpus Christi | B23: Nueces | C23: 36 | G23: 19 | H23: 5 | M23: 6 | O23: =SUM(C23:F23) -> 36 | P23: =SUM(G23:N23) -> 30 | Q23: =SUM(O23:P23) -> 66
A24: Texas Christian University | B24: Tarrant | C24: 19 | D24: 4 | E24: 55 | G24: 3 | H24: 1 | N24: 14 | O24: =SUM(C24:F24) -> 78 | P24: =SUM(G24:N24) -> 18 | Q24: =SUM(O24:P24) -> 96
A25: Texas State University | B25: Williamson | C25: 27 | G25: 0 | O25: =SUM(C25:F25) -> 27 | P25: =SUM(G25:N25) -> 0 | Q25: =SUM(O25:P25) -> 27
A26: Texas Tech University Health Sciences Center El Paso | B26: El Paso | G26: 4 | O26: =SUM(C26:F26) -> 0 | P26: =SUM(G26:N26) -> 4 | Q26: =SUM(O26:P26) -> 4
A27: Texas Tech University Health Sciences Center Lubbock | B27: Lubbock | C27: 120 | F27: 21 | G27: 50 | H27: 17 | I27: 8 | M27: 7 | O27: =SUM(C27:F27) -> 141 | P27: =SUM(G27:N27) -> 82 | Q27: =SUM(O27:P27) -> 223
A28: Texas Wesleyan University | B28: Tarrant | C28: 4 | M28: 1 | O28: =SUM(C28:F28) -> 4 | P28: =SUM(G28:N28) -> 1 | Q28: =SUM(O28:P28) -> 5
A29: Texas Wesleyan University- Graduate Program of Nurse Anesthesia | B29: Tarrant | E29: 88 | O29: =SUM(C29:F29) -> 88 | P29: =SUM(G29:N29) -> 0 | Q29: =SUM(O29:P29) -> 88
A30: Texas Woman's University College of Nursing | B30: Denton | C30: 321 | H30: 13 | K30: 20 | M30: 9 | O30: =SUM(C30:F30) -> 321 | P30: =SUM(G30:N30) -> 42 | Q30: =SUM(O30:P30) -> 363
A31: The University of Texas at San Antonio/UT Health | B31: Bexar | C31: 32 | E31: 0 | G31: 4 | H31: 0 | J31: 0 | K31: 6 | L31: 1 | O31: =SUM(C31:F31) -> 32 | P31: =SUM(G31:N31) -> 11 | Q31: =SUM(O31:P31) -> 43
A32: University of Houston Andy and Barbara Gessner College of Nursing | B32: Fort Bend | C32: 4 | G32: 0 | H32: 0 | O32: =SUM(C32:F32) -> 4 | P32: =SUM(G32:N32) -> 0 | Q32: =SUM(O32:P32) -> 4
A33: University of North Texas Health Science Center - College of Nursing | B33: Tarrant | C33: 0 | N33: 0 | O33: =SUM(C33:F33) -> 0 | P33: =SUM(G33:N33) -> 0 | Q33: =SUM(O33:P33) -> 0
A34: University of St. Thomas | B34: Harris | C34: 1 | G34: 4 | H34: 5 | N34: 1 | O34: =SUM(C34:F34) -> 1 | P34: =SUM(G34:N34) -> 10 | Q34: =SUM(O34:P34) -> 11
A35: University of Texas at Arlington | B35: Tarrant | C35: 650 | G35: 142 | H35: 83 | I35: 0 | K35: 7 | M35: 53 | O35: =SUM(C35:F35) -> 650 | P35: =SUM(G35:N35) -> 285 | Q35: =SUM(O35:P35) -> 935
A36: University of Texas at Austin | B36: Travis | C36: 31 | D36: 6 | K36: 8 | M36: 13 | N36: 37 | O36: =SUM(C36:F36) -> 37 | P36: =SUM(G36:N36) -> 58 | Q36: =SUM(O36:P36) -> 95
A37: University of Texas at El Paso | B37: El Paso | C37: 114 | G37: 19 | H37: 15 | M37: 12 | O37: =SUM(C37:F37) -> 114 | P37: =SUM(G37:N37) -> 46 | Q37: =SUM(O37:P37) -> 160
A38: University of Texas at Tyler | B38: Smith | C38: 91 | E38: 0 | G38: 35 | H38: 35 | I38: 65 | K38: 9 | M38: 7 | O38: =SUM(C38:F38) -> 91 | P38: =SUM(G38:N38) -> 151 | Q38: =SUM(O38:P38) -> 242
A39: University of Texas Health Science Center at Houston | B39: Harris | C39: 79 | E39: 19 | G39: 26 | H39: 4 | I39: 0 | K39: 1 | M39: 9 | O39: =SUM(C39:F39) -> 98 | P39: =SUM(G39:N39) -> 40 | Q39: =SUM(O39:P39) -> 138
A40: University of Texas Medical Branch | B40: Galveston | C40: 104 | E40: 0 | G40: 2 | H40: 16 | J40: 1 | K40: 9 | M40: 16 | N40: 0 | O40: =SUM(C40:F40) -> 104 | P40: =SUM(G40:N40) -> 44 | Q40: =SUM(O40:P40) -> 148
A41: University of Texas Rio Grande Valley | B41: Hidalgo | C41: 48 | G41: 5 | H41: 9 | M41: 6 | O41: =SUM(C41:F41) -> 48 | P41: =SUM(G41:N41) -> 20 | Q41: =SUM(O41:P41) -> 68
A42: University of the Incarnate Word | B42: Bexar | C42: 5 | G42: 1 | O42: =SUM(C42:F42) -> 5 | P42: =SUM(G42:N42) -> 1 | Q42: =SUM(O42:P42) -> 6
A43: Wayland Baptist University | B43: Bexar | H43: 0 | O43: =SUM(C43:F43) -> 0 | P43: =SUM(G43:N43) -> 0 | Q43: =SUM(O43:P43) -> 0
A44: West Texas A&M University | B44: Randall | C44: 13 | G44: 1 | H44: 5 | O44: =SUM(C44:F44) -> 13 | P44: =SUM(G44:N44) -> 6 | Q44: =SUM(O44:P44) -> 19
A45: TOTAL- ALL PROGRAMS | C45: =SUM(C5:C44) -> 1927 | D45: =SUM(D5:D44) -> 10 | E45: =SUM(E5:E44) -> 220 | F45: =SUM(F5:F44) -> 26 | G45: =SUM(G5:G44) -> 439 | H45: =SUM(H5:H44) -> 280 | I45: =SUM(I5:I44) -> 73 | J45: =SUM(J5:J44) -> 1 | ... Q45: =SUM(Q5:Q44) -> 3254
A47: Legend for abbreviations
A48: APRN-Advanced Practice Registered Nurse, includes four program tracks including: Nurse Practitioner, Clinical Nurse Specialist, Nurse Anesthetist, and Nurse-Midwife
A49: Seats = seats for new students
A50: Offr'd Adm - the number of students offered admission
A51: Qual App - the number of qualified applicants
A52: Reg & enroll - the number of students registered and enrolled
A54: Notes: All data are obtained from self-reports from graduate nursing programs on the 2025 Board of Nursing's (BON) Nursing Education Program Information Survey (NEPIS). Included are enrollment, graduation, and admissions data for all graduate nursing education programs. This includes master's, post-graduate certificate, DNP/DNAP, PhD, and other doctoral programs. Reasons that qualified applicants were not offered admission are included in the 2025 GNEPIS fact sheets available on the TCNWS publications site: www.dshs.texas.gov/nursingworkforce/Nursing-Education-Reports/

Sheet APRN Admissions
A1: Program Name | B1: County | C1: ADMISSIONS
C2: Academic Year 2024-2025
C3: Nurse Practitioner | G3: Clinical Nurse Specialist | K3: Nurse Anesthetist | O3: Nurse Midwife | S3: Total APRN
C4: Seats | D4: Qual App | E4: Offr'd Adm | F4: Reg & enroll | G4: Seats | H4: Qual App | I4: Offr'd Adm | J4: Reg & enroll | K4: Seats | L4: Qual App | M4: Offr'd Adm | N4: Reg & enroll | O4: Seats | P4: Qual App | Q4: Offr'd Adm | R4: Reg & enroll | S4: Seats | T4: Qual App | U4: Offr'd Adm | V4: Reg & enroll
A5: Abilene Christian University | B5: Dallas | S5: =SUM(C5,G5,K5,O5) -> 0 | T5: =SUM(D5,H5,L5,P5) -> 0 | U5: =SUM(E5,I5,M5,Q5) -> 0 | V5: =SUM(F5,J5,N5,R5) -> 0
A6: Angelo State University | B6: Tom Green | C6: 35 | D6: 33 | E6: 32 | F6: 28 | S6: =SUM(C6,G6,K6,O6) -> 35 | T6: =SUM(D6,H6,L6,P6) -> 33 | U6: =SUM(E6,I6,M6,Q6) -> 32 | V6: =SUM(F6,J6,N6,R6) -> 28
A7: Baylor College of Medicine Doctor of Nursing Practice Program-Nurse Anesthesia | B7: Harris | K7: 31 | L7: 60 | M7: 46 | N7: 31 | S7: =SUM(C7,G7,K7,O7) -> 31 | T7: =SUM(D7,H7,L7,P7) -> 60 | U7: =SUM(E7,I7,M7,Q7) -> 46 | V7: =SUM(F7,J7,N7,R7) -> 31
A8: Baylor University Louise Herrington School of Nursing | B8: Dallas | C8: 300 | D8: 450 | E8: 378 | F8: 259 | K8: 40 | L8: 47 | M8: 47 | N8: 31 | O8: 20 | P8: 20 | Q8: 20 | R8: 11 | S8: =SUM(C8,G8,K8,O8) -> 360 | T8: =SUM(D8,H8,L8,P8) -> 517 | U8: =SUM(E8,I8,M8,Q8) -> 445 | V8: =SUM(F8,J8,N8,R8) -> 301
A9: East Texas A&M University | B9: Hunt | C9: 6 | D9: 6 | E9: 6 | F9: 3 | S9: =SUM(C9,G9,K9,O9) -> 6 | T9: =SUM(D9,H9,L9,P9) -> 6 | U9: =SUM(E9,I9,M9,Q9) -> 6 | V9: =SUM(F9,J9,N9,R9) -> 3
A10: Houston Christian University | B10: Harris | C10: 70 | D10: 22 | E10: 22 | F10: 22 | S10: =SUM(C10,G10,K10,O10) -> 70 | T10: =SUM(D10,H10,L10,P10) -> 22 | U10: =SUM(E10,I10,M10,Q10) -> 22 | V10: =SUM(F10,J10,N10,R10) -> 22
A11: Lamar University | B11: Jefferson | S11: =SUM(C11,G11,K11,O11) -> 0 | T11: =SUM(D11,H11,L11,P11) -> 0 | U11: =SUM(E11,I11,M11,Q11) -> 0 | V11: =SUM(F11,J11,N11,R11) -> 0
A12: Lubbock Christian University | B12: Lubbock | C12: 35 | D12: 13 | E12: 13 | F12: 13 | S12: =SUM(C12,G12,K12,O12) -> 35 | T12: =SUM(D12,H12,L12,P12) -> 13 | U12: =SUM(E12,I12,M12,Q12) -> 13 | V12: =SUM(F12,J12,N12,R12) -> 13
A13: Midwestern State University | B13: Wichita | C13: 60 | D13: 34 | E13: 34 | F13: 24 | S13: =SUM(C13,G13,K13,O13) -> 60 | T13: =SUM(D13,H13,L13,P13) -> 34 | U13: =SUM(E13,I13,M13,Q13) -> 34 | V13: =SUM(F13,J13,N13,R13) -> 24
A14: Patty Hanks Shelton School of Nursing | B14: Taylor | C14: 20 | D14: 0 | E14: 0 | F14: 0 | S14: =SUM(C14,G14,K14,O14) -> 20 | T14: =SUM(D14,H14,L14,P14) -> 0 | U14: =SUM(E14,I14,M14,Q14) -> 0 | V14: =SUM(F14,J14,N14,R14) -> 0
A15: Prairie View A&M University | B15: Harris | C15: 180 | D15: 25 | E15: 25 | F15: 25 | S15: =SUM(C15,G15,K15,O15) -> 180 | T15: =SUM(D15,H15,L15,P15) -> 25 | U15: =SUM(E15,I15,M15,Q15) -> 25 | V15: =SUM(F15,J15,N15,R15) -> 25
A16: Schreiner University | B16: Kerr | C16: 60 | D16: 10 | E16: 10 | F16: 10 | S16: =SUM(C16,G16,K16,O16) -> 60 | T16: =SUM(D16,H16,L16,P16) -> 10 | U16: =SUM(E16,I16,M16,Q16) -> 10 | V16: =SUM(F16,J16,N16,R16) -> 10
A17: Scott and White School of Nursing University of Mary Hardin-Baylor** | B17: Bell | C17: 80 | D17: 80 | E17: 80 | F17: 41 | S17: =SUM(C17,G17,K17,O17) -> 80 | T17: =SUM(D17,H17,L17,P17) -> 80 | U17: =SUM(E17,I17,M17,Q17) -> 80 | V17: =SUM(F17,J17,N17,R17) -> 41
A18: Stephen F Austin State University | B18: Nacogdoches | C18: 52 | D18: 52 | E18: 52 | F18: 51 | S18: =SUM(C18,G18,K18,O18) -> 52 | T18: =SUM(D18,H18,L18,P18) -> 52 | U18: =SUM(E18,I18,M18,Q18) -> 52 | V18: =SUM(F18,J18,N18,R18) -> 51
A19: Tarleton State University | B19: Erath | S19: =SUM(C19,G19,K19,O19) -> 0 | T19: =SUM(D19,H19,L19,P19) -> 0 | U19: =SUM(E19,I19,M19,Q19) -> 0 | V19: =SUM(F19,J19,N19,R19) -> 0
A20: Texas A&M Health Science Center | B20: Brazos | C20: 88 | D20: 63 | E20: 63 | F20: 35 | S20: =SUM(C20,G20,K20,O20) -> 88 | T20: =SUM(D20,H20,L20,P20) -> 63 | U20: =SUM(E20,I20,M20,Q20) -> 63 | V20: =SUM(F20,J20,N20,R20) -> 35
A21: Texas A&M International University | B21: Webb | C21: 218 | D21: 199 | E21: 199 | F21: 174 | S21: =SUM(C21,G21,K21,O21) -> 218 | T21: =SUM(D21,H21,L21,P21) -> 199 | U21: =SUM(E21,I21,M21,Q21) -> 199 | V21: =SUM(F21,J21,N21,R21) -> 174
A22: Texas A&M University - Texarkana Nursing Program | B22: Bowie | C22: 90 | D22: 32 | E22: 32 | F22: 29 | S22: =SUM(C22,G22,K22,O22) -> 90 | T22: =SUM(D22,H22,L22,P22) -> 32 | U22: =SUM(E22,I22,M22,Q22) -> 32 | V22: =SUM(F22,J22,N22,R22) -> 29
A23: Texas A&M University-Corpus Christi | B23: Nueces | C23: 100 | D23: 62 | E23: 62 | F23: 52 | S23: =SUM(C23,G23,K23,O23) -> 100 | T23: =SUM(D23,H23,L23,P23) -> 62 | U23: =SUM(E23,I23,M23,Q23) -> 62 | V23: =SUM(F23,J23,N23,R23) -> 52
A24: Texas Christian University | B24: Tarrant | C24: 54 | D24: 45 | E24: 45 | F24: 21 | G24: 0 | H24: 0 | I24: 0 | J24: 0 | K24: 80 | L24: 288 | M24: 86 | N24: 71 | S24: =SUM(C24,G24,K24,O24) -> 134 | T24: =SUM(D24,H24,L24,P24) -> 333 | U24: =SUM(E24,I24,M24,Q24) -> 131 | V24: =SUM(F24,J24,N24,R24) -> 92
A25: Texas State University | B25: Williamson | C25: 60 | D25: 90 | E25: 48 | F25: 24 | S25: =SUM(C25,G25,K25,O25) -> 60 | T25: =SUM(D25,H25,L25,P25) -> 90 | U25: =SUM(E25,I25,M25,Q25) -> 48 | V25: =SUM(F25,J25,N25,R25) -> 24
A26: Texas Tech University Health Sciences Center El Paso | B26: El Paso | S26: =SUM(C26,G26,K26,O26) -> 0 | T26: =SUM(D26,H26,L26,P26) -> 0 | U26: =SUM(E26,I26,M26,Q26) -> 0 | V26: =SUM(F26,J26,N26,R26) -> 0
A27: Texas Tech University Health Sciences Center Lubbock | B27: Lubbock | C27: 263 | D27: 337 | E27: 263 | F27: 201 | O27: 42 | P27: 62 | Q27: 42 | R27: 33 | S27: =SUM(C27,G27,K27,O27) -> 305 | T27: =SUM(D27,H27,L27,P27) -> 399 | U27: =SUM(E27,I27,M27,Q27) -> 305 | V27: =SUM(F27,J27,N27,R27) -> 234
A28: Texas Wesleyan University | B28: Tarrant | C28: 100 | D28: 31 | E28: 29 | F28: 25 | S28: =SUM(C28,G28,K28,O28) -> 100 | T28: =SUM(D28,H28,L28,P28) -> 31 | U28: =SUM(E28,I28,M28,Q28) -> 29 | V28: =SUM(F28,J28,N28,R28) -> 25
A29: Texas Wesleyan University- Graduate Program of Nurse Anesthesia | B29: Tarrant | K29: 107 | L29: 151 | M29: 123 | N29: 107 | S29: =SUM(C29,G29,K29,O29) -> 107 | T29: =SUM(D29,H29,L29,P29) -> 151 | U29: =SUM(E29,I29,M29,Q29) -> 123 | V29: =SUM(F29,J29,N29,R29) -> 107
A30: Texas Woman's University College of Nursing | B30: Denton | C30: 665 | D30: 857 | E30: 795 | F30: 601 | S30: =SUM(C30,G30,K30,O30) -> 665 | T30: =SUM(D30,H30,L30,P30) -> 857 | U30: =SUM(E30,I30,M30,Q30) -> 795 | V30: =SUM(F30,J30,N30,R30) -> 601
A31: The University of Texas at San Antonio/UT Health | B31: Bexar | C31: 67 | D31: 57 | E31: 57 | F31: 36 | K31: 18 | L31: 32 | M31: 18 | N31: 18 | S31: =SUM(C31,G31,K31,O31) -> 85 | T31: =SUM(D31,H31,L31,P31) -> 89 | U31: =SUM(E31,I31,M31,Q31) -> 75 | V31: =SUM(F31,J31,N31,R31) -> 54
A32: University of Houston Andy and Barbara Gessner College of Nursing | B32: Fort Bend | C32: 25 | D32: 20 | E32: 20 | F32: 7 | S32: =SUM(C32,G32,K32,O32) -> 25 | T32: =SUM(D32,H32,L32,P32) -> 20 | U32: =SUM(E32,I32,M32,Q32) -> 20 | V32: =SUM(F32,J32,N32,R32) -> 7
A33: University of North Texas Health Science Center - College of Nursing | B33: Tarrant | C33: 18 | D33: 19 | E33: 8 | F33: 7 | S33: =SUM(C33,G33,K33,O33) -> 18 | T33: =SUM(D33,H33,L33,P33) -> 19 | U33: =SUM(E33,I33,M33,Q33) -> 8 | V33: =SUM(F33,J33,N33,R33) -> 7
A34: University of St. Thomas | B34: Harris | C34: 35 | D34: 23 | E34: 23 | F34: 16 | S34: =SUM(C34,G34,K34,O34) -> 35 | T34: =SUM(D34,H34,L34,P34) -> 23 | U34: =SUM(E34,I34,M34,Q34) -> 23 | V34: =SUM(F34,J34,N34,R34) -> 16
A35: University of Texas at Arlington | B35: Tarrant | C35: 2170 | D35: 2170 | E35: 2170 | F35: 1756 | S35: =SUM(C35,G35,K35,O35) -> 2170 | T35: =SUM(D35,H35,L35,P35) -> 2170 | U35: =SUM(E35,I35,M35,Q35) -> 2170 | V35: =SUM(F35,J35,N35,R35) -> 1756
A36: University of Texas at Austin | B36: Travis | C36: 41 | D36: 163 | E36: 41 | F36: 34 | G36: 16 | H36: 23 | I36: 16 | J36: 7 | S36: =SUM(C36,G36,K36,O36) -> 57 | T36: =SUM(D36,H36,L36,P36) -> 186 | U36: =SUM(E36,I36,M36,Q36) -> 57 | V36: =SUM(F36,J36,N36,R36) -> 41
A37: University of Texas at El Paso | B37: El Paso | C37: 220 | D37: 220 | E37: 220 | F37: 186 | S37: =SUM(C37,G37,K37,O37) -> 220 | T37: =SUM(D37,H37,L37,P37) -> 220 | U37: =SUM(E37,I37,M37,Q37) -> 220 | V37: =SUM(F37,J37,N37,R37) -> 186
A38: University of Texas at Tyler | B38: Smith | C38: 483 | D38: 557 | E38: 483 | F38: 355 | K38: 0 | L38: 0 | M38: 0 | N38: 0 | S38: =SUM(C38,G38,K38,O38) -> 483 | T38: =SUM(D38,H38,L38,P38) -> 557 | U38: =SUM(E38,I38,M38,Q38) -> 483 | V38: =SUM(F38,J38,N38,R38) -> 355
A39: University of Texas Health Science Center at Houston | B39: Harris | C39: 165 | D39: 238 | E39: 238 | F39: 204 | K39: 43 | L39: 38 | M39: 38 | N39: 34 | S39: =SUM(C39,G39,K39,O39) -> 208 | T39: =SUM(D39,H39,L39,P39) -> 276 | U39: =SUM(E39,I39,M39,Q39) -> 276 | V39: =SUM(F39,J39,N39,R39) -> 238
A40: University of Texas Medical Branch | B40: Galveston | C40: 127 | D40: 167 | E40: 168 | F40: 127 | K40: 15 | L40: 154 | M40: 15 | N40: 15 | S40: =SUM(C40,G40,K40,O40) -> 142 | T40: =SUM(D40,H40,L40,P40) -> 321 | U40: =SUM(E40,I40,M40,Q40) -> 183 | V40: =SUM(F40,J40,N40,R40) -> 142
A41: University of Texas Rio Grande Valley | B41: Hidalgo | C41: 145 | D41: 80 | E41: 80 | F41: 64 | S41: =SUM(C41,G41,K41,O41) -> 145 | T41: =SUM(D41,H41,L41,P41) -> 80 | U41: =SUM(E41,I41,M41,Q41) -> 80 | V41: =SUM(F41,J41,N41,R41) -> 64
A42: University of the Incarnate Word | B42: Bexar | C42: 42 | D42: 10 | E42: 10 | F42: 7 | S42: =SUM(C42,G42,K42,O42) -> 42 | T42: =SUM(D42,H42,L42,P42) -> 10 | U42: =SUM(E42,I42,M42,Q42) -> 10 | V42: =SUM(F42,J42,N42,R42) -> 7
A43: Wayland Baptist University | B43: Bexar | S43: =SUM(C43,G43,K43,O43) -> 0 | T43: =SUM(D43,H43,L43,P43) -> 0 | U43: =SUM(E43,I43,M43,Q43) -> 0 | V43: =SUM(F43,J43,N43,R43) -> 0
A44: West Texas A&M University | B44: Randall | C44: 160 | D44: 41 | E44: 41 | F44: 41 | S44: =SUM(C44,G44,K44,O44) -> 160 | T44: =SUM(D44,H44,L44,P44) -> 41 | U44: =SUM(E44,I44,M44,Q44) -> 41 | V44: =SUM(F44,J44,N44,R44) -> 41
A45: TOTAL- ALL PROGRAMS | C45: =SUM(C5:C44) -> 6234 | D45: =SUM(D5:D44) -> 6206 | E45: =SUM(E5:E44) -> 5747 | F45: =SUM(F5:F44) -> 4478 | G45: =SUM(G5:G44) -> 16 | H45: =SUM(H5:H44) -> 23 | I45: =SUM(I5:I44) -> 16 | J45: =SUM(J5:J44) -> 7 | ... V45: =SUM(V5:V44) -> 4836
A47: Legend for abbreviations
A48: APRN-Advanced Practice Registered Nurse, includes four program tracks including: Nurse Practitioner, Clinical Nurse Specialist, Nurse Anesthetist, and Nurse-Midwife
A49: Seats = seats for new students
A50: Offr'd Adm - the number of students offered admission
A51: Qual App - the number of qualified applicants
A52: Reg & enroll - the number of students registered and enrolled
A53: ** Program reported having an unlimited number of seats
A55: Notes: All data are obtained from self-reports from graduate nursing programs on the 2025 Board of Nursing's (BON) Nursing Education Program Information Survey (NEPIS). Included are enrollment, graduation, and admissions data for all graduate nursing education programs. This includes master's, post-graduate certificate, DNP/DNAP, PhD, and other doctoral programs. Reasons that qualified applicants were not offered admission are included in the 2025 GNEPIS fact sheets available on the TCNWS publications site: www.dshs.texas.gov/nursingworkforce/Nursing-Education-Reports/

Sheet Non-APRN Admissions
A1: Program Name | B1: County | C1: ADMISSIONS
C2: Academic Year 2024-2025
C3: Nursing Administration | G3: Nursing Education | K3: Nursing Informatics | O3: Clinical Nurse Leader | S3: Nursing Research | W3: Public Health | AA3: DNP-No specialty | AE3: Other | AI3: Total Graduate
C4: Seats | D4: Qual App | E4: Offr'd Adm | F4: Reg & enroll | G4: Seats | H4: Qual App | I4: Offr'd Adm | J4: Reg & enroll | K4: Seats | L4: Qual App | M4: Offr'd Adm | N4: Reg & enroll | O4: Seats | P4: Qual App | Q4: Offr'd Adm | R4: Reg & enroll | S4: Seats | T4: Qual App | U4: Offr'd Adm | V4: Reg & enroll | W4: Seats | X4: Qual App | Y4: Offr'd Adm | Z4: Reg & enroll | AA4: Seats | AB4: Qual App | AC4: Offr'd Adm | AD4: Reg & enroll | AE4: Seats | AF4: Qual App | AG4: Offr'd Adm | AH4: Reg & enroll | AI4: Seats | AJ4: Qual App | AK4: Offr'd Adm | AL4: Reg & enroll
A5: Abilene Christian University | B5: Dallas | C5: 75 | D5: 17 | E5: 17 | F5: 12 | AI5: =SUM(C5,G5,K5,O5,S5,W5,AA5,AE5) -> 75 | AJ5: =SUM(D5,H5,L5,P5,T5,X5,AB5,AF5) -> 17 | AK5: =SUM(E5,I5,M5,Q5,U5,Y5,AC5,AG5) -> 17 | AL5: =SUM(F5,J5,N5,R5,V5,Z5,AD5,AH5) -> 12
A6: Angelo State University | B6: Tom Green | G6: 15 | H6: 2 | I6: 2 | J6: 2 | AI6: =SUM(C6,G6,K6,O6,S6,W6,AA6,AE6) -> 15 | AJ6: =SUM(D6,H6,L6,P6,T6,X6,AB6,AF6) -> 2 | AK6: =SUM(E6,I6,M6,Q6,U6,Y6,AC6,AG6) -> 2 | AL6: =SUM(F6,J6,N6,R6,V6,Z6,AD6,AH6) -> 2
A7: Baylor College of Medicine Doctor of Nursing Practice Program-Nurse Anesthesia | B7: Harris | AI7: =SUM(C7,G7,K7,O7,S7,W7,AA7,AE7) -> 0 | AJ7: =SUM(D7,H7,L7,P7,T7,X7,AB7,AF7) -> 0 | AK7: =SUM(E7,I7,M7,Q7,U7,Y7,AC7,AG7) -> 0 | AL7: =SUM(F7,J7,N7,R7,V7,Z7,AD7,AH7) -> 0
A8: Baylor University Louise Herrington School of Nursing | B8: Dallas | C8: 60 | D8: 31 | E8: 28 | F8: 26 | AI8: =SUM(C8,G8,K8,O8,S8,W8,AA8,AE8) -> 60 | AJ8: =SUM(D8,H8,L8,P8,T8,X8,AB8,AF8) -> 31 | AK8: =SUM(E8,I8,M8,Q8,U8,Y8,AC8,AG8) -> 28 | AL8: =SUM(F8,J8,N8,R8,V8,Z8,AD8,AH8) -> 26
A9: East Texas A&M University | B9: Hunt | AI9: =SUM(C9,G9,K9,O9,S9,W9,AA9,AE9) -> 0 | AJ9: =SUM(D9,H9,L9,P9,T9,X9,AB9,AF9) -> 0 | AK9: =SUM(E9,I9,M9,Q9,U9,Y9,AC9,AG9) -> 0 | AL9: =SUM(F9,J9,N9,R9,V9,Z9,AD9,AH9) -> 0
A10: Houston Christian University | B10: Harris | C10: 10 | D10: 0 | E10: 0 | F10: 0 | G10: 10 | H10: 3 | I10: 3 | J10: 3 | AI10: =SUM(C10,G10,K10,O10,S10,W10,AA10,AE10) -> 20 | AJ10: =SUM(D10,H10,L10,P10,T10,X10,AB10,AF10) -> 3 | AK10: =SUM(E10,I10,M10,Q10,U10,Y10,AC10,AG10) -> 3 | AL10: =SUM(F10,J10,N10,R10,V10,Z10,AD10,AH10) -> 3
A11: Lamar University | B11: Jefferson | C11: 14 | D11: 14 | E11: 14 | F11: 14 | G11: 12 | H11: 12 | I11: 12 | J11: 12 | AE11: 9 | AF11: 9 | AG11: 9 | AH11: 9 | AI11: =SUM(C11,G11,K11,O11,S11,W11,AA11,AE11) -> 35 | AJ11: =SUM(D11,H11,L11,P11,T11,X11,AB11,AF11) -> 35 | AK11: =SUM(E11,I11,M11,Q11,U11,Y11,AC11,AG11) -> 35 | AL11: =SUM(F11,J11,N11,R11,V11,Z11,AD11,AH11) -> 35
A12: Lubbock Christian University | B12: Lubbock | C12: 25 | D12: 19 | E12: 19 | F12: 19 | G12: 25 | H12: 19 | I12: 19 | J12: 19 | AA12: 7 | AB12: 7 | AC12: 7 | AD12: 7 | AI12: =SUM(C12,G12,K12,O12,S12,W12,AA12,AE12) -> 57 | AJ12: =SUM(D12,H12,L12,P12,T12,X12,AB12,AF12) -> 45 | AK12: =SUM(E12,I12,M12,Q12,U12,Y12,AC12,AG12) -> 45 | AL12: =SUM(F12,J12,N12,R12,V12,Z12,AD12,AH12) -> 45
A13: Midwestern State University | B13: Wichita | AI13: =SUM(C13,G13,K13,O13,S13,W13,AA13,AE13) -> 0 | AJ13: =SUM(D13,H13,L13,P13,T13,X13,AB13,AF13) -> 0 | AK13: =SUM(E13,I13,M13,Q13,U13,Y13,AC13,AG13) -> 0 | AL13: =SUM(F13,J13,N13,R13,V13,Z13,AD13,AH13) -> 0
A14: Patty Hanks Shelton School of Nursing | B14: Taylor | G14: 20 | H14: 0 | I14: 0 | J14: 0 | AI14: =SUM(C14,G14,K14,O14,S14,W14,AA14,AE14) -> 20 | AJ14: =SUM(D14,H14,L14,P14,T14,X14,AB14,AF14) -> 0 | AK14: =SUM(E14,I14,M14,Q14,U14,Y14,AC14,AG14) -> 0 | AL14: =SUM(F14,J14,N14,R14,V14,Z14,AD14,AH14) -> 0
A15: Prairie View A&M University | B15: Harris | C15: 40 | D15: 1 | E15: 1 | F15: 1 | G15: 50 | H15: 1 | I15: 1 | J15: 1 | AI15: =SUM(C15,G15,K15,O15,S15,W15,AA15,AE15) -> 90 | AJ15: =SUM(D15,H15,L15,P15,T15,X15,AB15,AF15) -> 2 | AK15: =SUM(E15,I15,M15,Q15,U15,Y15,AC15,AG15) -> 2 | AL15: =SUM(F15,J15,N15,R15,V15,Z15,AD15,AH15) -> 2
A16: Schreiner University | B16: Kerr | AI16: =SUM(C16,G16,K16,O16,S16,W16,AA16,AE16) -> 0 | AJ16: =SUM(D16,H16,L16,P16,T16,X16,AB16,AF16) -> 0 | AK16: =SUM(E16,I16,M16,Q16,U16,Y16,AC16,AG16) -> 0 | AL16: =SUM(F16,J16,N16,R16,V16,Z16,AD16,AH16) -> 0
A17: Scott and White School of Nursing University of Mary Hardin-Baylor | B17: Bell | G17: 8 | H17: 8 | I17: 8 | J17: 3 | AA17: 2 | AB17: 2 | AC17: 2 | AD17: 0 | AI17: =SUM(C17,G17,K17,O17,S17,W17,AA17,AE17) -> 10 | AJ17: =SUM(D17,H17,L17,P17,T17,X17,AB17,AF17) -> 10 | AK17: =SUM(E17,I17,M17,Q17,U17,Y17,AC17,AG17) -> 10 | AL17: =SUM(F17,J17,N17,R17,V17,Z17,AD17,AH17) -> 3
A18: Stephen F Austin State University | B18: Nacogdoches | G18: 11 | H18: 9 | I18: 9 | J18: 9 | AI18: =SUM(C18,G18,K18,O18,S18,W18,AA18,AE18) -> 11 | AJ18: =SUM(D18,H18,L18,P18,T18,X18,AB18,AF18) -> 9 | AK18: =SUM(E18,I18,M18,Q18,U18,Y18,AC18,AG18) -> 9 | AL18: =SUM(F18,J18,N18,R18,V18,Z18,AD18,AH18) -> 9
A19: Tarleton State University | B19: Erath | C19: 20 | D19: 10 | E19: 10 | F19: 10 | G19: 20 | H19: 9 | I19: 9 | J19: 9 | AI19: =SUM(C19,G19,K19,O19,S19,W19,AA19,AE19) -> 40 | AJ19: =SUM(D19,H19,L19,P19,T19,X19,AB19,AF19) -> 19 | AK19: =SUM(E19,I19,M19,Q19,U19,Y19,AC19,AG19) -> 19 | AL19: =SUM(F19,J19,N19,R19,V19,Z19,AD19,AH19) -> 19
A20: Texas A&M Health Science Center | B20: Brazos | G20: 12 | H20: 12 | I20: 12 | J20: 8 | AA20: 13 | AB20: 0 | AC20: 13 | AD20: 12 | AE20: 14 | AF20: 27 | AG20: 14 | AH20: 9 | AI20: =SUM(C20,G20,K20,O20,S20,W20,AA20,AE20) -> 39 | AJ20: =SUM(D20,H20,L20,P20,T20,X20,AB20,AF20) -> 39 | AK20: =SUM(E20,I20,M20,Q20,U20,Y20,AC20,AG20) -> 39 | AL20: =SUM(F20,J20,N20,R20,V20,Z20,AD20,AH20) -> 29
A21: Texas A&M International University | B21: Webb | C21: 135 | D21: 97 | E21: 97 | F21: 73 | AI21: =SUM(C21,G21,K21,O21,S21,W21,AA21,AE21) -> 135 | AJ21: =SUM(D21,H21,L21,P21,T21,X21,AB21,AF21) -> 97 | AK21: =SUM(E21,I21,M21,Q21,U21,Y21,AC21,AG21) -> 97 | AL21: =SUM(F21,J21,N21,R21,V21,Z21,AD21,AH21) -> 73
A22: Texas A&M University - Texarkana Nursing Program | B22: Bowie | C22: 30 | D22: 5 | E22: 5 | F22: 5 | AI22: =SUM(C22,G22,K22,O22,S22,W22,AA22,AE22) -> 30 | AJ22: =SUM(D22,H22,L22,P22,T22,X22,AB22,AF22) -> 5 | AK22: =SUM(E22,I22,M22,Q22,U22,Y22,AC22,AG22) -> 5 | AL22: =SUM(F22,J22,N22,R22,V22,Z22,AD22,AH22) -> 5
A23: Texas A&M University-Corpus Christi | B23: Nueces | C23: 40 | D23: 4 | E23: 4 | F23: 3 | G23: 30 | H23: 8 | I23: 8 | J23: 7 | AA23: 10 | AB23: 6 | AC23: 6 | AD23: 6 | AI23: =SUM(C23,G23,K23,O23,S23,W23,AA23,AE23) -> 80 | AJ23: =SUM(D23,H23,L23,P23,T23,X23,AB23,AF23) -> 18 | AK23: =SUM(E23,I23,M23,Q23,U23,Y23,AC23,AG23) -> 18 | AL23: =SUM(F23,J23,N23,R23,V23,Z23,AD23,AH23) -> 16
A24: Texas Christian University | B24: Tarrant | C24: 16 | D24: 5 | E24: 5 | F24: 2 | G24: 16 | H24: 4 | I24: 4 | J24: 4 | AE24: 18 | AF24: 19 | AG24: 19 | AH24: 16 | AI24: =SUM(C24,G24,K24,O24,S24,W24,AA24,AE24) -> 50 | AJ24: =SUM(D24,H24,L24,P24,T24,X24,AB24,AF24) -> 28 | AK24: =SUM(E24,I24,M24,Q24,U24,Y24,AC24,AG24) -> 28 | AL24: =SUM(F24,J24,N24,R24,V24,Z24,AD24,AH24) -> 22
A25: Texas State University | B25: Williamson | C25: 0 | D25: 0 | E25: 0 | F25: 0 | AI25: =SUM(C25,G25,K25,O25,S25,W25,AA25,AE25) -> 0 | AJ25: =SUM(D25,H25,L25,P25,T25,X25,AB25,AF25) -> 0 | AK25: =SUM(E25,I25,M25,Q25,U25,Y25,AC25,AG25) -> 0 | AL25: =SUM(F25,J25,N25,R25,V25,Z25,AD25,AH25) -> 0
A26: Texas Tech University Health Sciences Center El Paso | B26: El Paso | C26: 20 | D26: 10 | E26: 10 | F26: 9 | AI26: =SUM(C26,G26,K26,O26,S26,W26,AA26,AE26) -> 20 | AJ26: =SUM(D26,H26,L26,P26,T26,X26,AB26,AF26) -> 10 | AK26: =SUM(E26,I26,M26,Q26,U26,Y26,AC26,AG26) -> 10 | AL26: =SUM(F26,J26,N26,R26,V26,Z26,AD26,AH26) -> 9
A27: Texas Tech University Health Sciences Center Lubbock | B27: Lubbock | C27: 75 | D27: 78 | E27: 75 | F27: 66 | G27: 34 | H27: 34 | I27: 32 | J27: 22 | K27: 20 | L27: 22 | M27: 20 | N27: 15 | AA27: 16 | AB27: 17 | AC27: 16 | AD27: 11 | AI27: =SUM(C27,G27,K27,O27,S27,W27,AA27,AE27) -> 145 | AJ27: =SUM(D27,H27,L27,P27,T27,X27,AB27,AF27) -> 151 | AK27: =SUM(E27,I27,M27,Q27,U27,Y27,AC27,AG27) -> 143 | AL27: =SUM(F27,J27,N27,R27,V27,Z27,AD27,AH27) -> 114
A28: Texas Wesleyan University | B28: Tarrant | AA28: 0 | AB28: 0 | AC28: 0 | AD28: 0 | AI28: =SUM(C28,G28,K28,O28,S28,W28,AA28,AE28) -> 0 | AJ28: =SUM(D28,H28,L28,P28,T28,X28,AB28,AF28) -> 0 | AK28: =SUM(E28,I28,M28,Q28,U28,Y28,AC28,AG28) -> 0 | AL28: =SUM(F28,J28,N28,R28,V28,Z28,AD28,AH28) -> 0
A29: Texas Wesleyan University- Graduate Program of Nurse Anesthesia | B29: Tarrant | AI29: =SUM(C29,G29,K29,O29,S29,W29,AA29,AE29) -> 0 | AJ29: =SUM(D29,H29,L29,P29,T29,X29,AB29,AF29) -> 0 | AK29: =SUM(E29,I29,M29,Q29,U29,Y29,AC29,AG29) -> 0 | AL29: =SUM(F29,J29,N29,R29,V29,Z29,AD29,AH29) -> 0
A30: Texas Woman's University College of Nursing | B30: Denton | G30: 50 | H30: 44 | I30: 44 | J30: 27 | S30: 24 | T30: 19 | U30: 18 | V30: 16 | AA30: 25 | AB30: 21 | AC30: 20 | AD30: 20 | AI30: =SUM(C30,G30,K30,O30,S30,W30,AA30,AE30) -> 99 | AJ30: =SUM(D30,H30,L30,P30,T30,X30,AB30,AF30) -> 84 | AK30: =SUM(E30,I30,M30,Q30,U30,Y30,AC30,AG30) -> 82 | AL30: =SUM(F30,J30,N30,R30,V30,Z30,AD30,AH30) -> 63
A31: The University of Texas at San Antonio/UT Health | B31: Bexar | C31: 5 | D31: 7 | E31: 7 | F31: 5 | G31: 0 | H31: 0 | I31: 0 | J31: 0 | O31: 0 | P31: 0 | Q31: 0 | R31: 0 | S31: 5 | T31: 5 | U31: 2 | V31: 2 | W31: 0 | X31: 0 | Y31: 0 | Z31: 0 | AI31: =SUM(C31,G31,K31,O31,S31,W31,AA31,AE31) -> 10 | AJ31: =SUM(D31,H31,L31,P31,T31,X31,AB31,AF31) -> 12 | AK31: =SUM(E31,I31,M31,Q31,U31,Y31,AC31,AG31) -> 9 | AL31: =SUM(F31,J31,N31,R31,V31,Z31,AD31,AH31) -> 7
A32: University of Houston Andy and Barbara Gessner College of Nursing | B32: Fort Bend | C32: 25 | D32: 4 | E32: 4 | F32: 3 | G32: 20 | H32: 7 | I32: 7 | J32: 4 | AI32: =SUM(C32,G32,K32,O32,S32,W32,AA32,AE32) -> 45 | AJ32: =SUM(D32,H32,L32,P32,T32,X32,AB32,AF32) -> 11 | AK32: =SUM(E32,I32,M32,Q32,U32,Y32,AC32,AG32) -> 11 | AL32: =SUM(F32,J32,N32,R32,V32,Z32,AD32,AH32) -> 7
A33: University of North Texas Health Science Center - College of Nursing | B33: Tarrant | AE33: 30 | AF33: 10 | AG33: 9 | AH33: 7 | AI33: =SUM(C33,G33,K33,O33,S33,W33,AA33,AE33) -> 30 | AJ33: =SUM(D33,H33,L33,P33,T33,X33,AB33,AF33) -> 10 | AK33: =SUM(E33,I33,M33,Q33,U33,Y33,AC33,AG33) -> 9 | AL33: =SUM(F33,J33,N33,R33,V33,Z33,AD33,AH33) -> 7
A34: University of St. Thomas | B34: Harris | C34: 5 | D34: 2 | E34: 2 | F34: 2 | G34: 5 | H34: 5 | I34: 5 | J34: 3 | AE34: 5 | AF34: 0 | AG34: 0 | AH34: 0 | AI34: =SUM(C34,G34,K34,O34,S34,W34,AA34,AE34) -> 15 | AJ34: =SUM(D34,H34,L34,P34,T34,X34,AB34,AF34) -> 7 | AK34: =SUM(E34,I34,M34,Q34,U34,Y34,AC34,AG34) -> 7 | AL34: =SUM(F34,J34,N34,R34,V34,Z34,AD34,AH34) -> 5
A35: University of Texas at Arlington | B35: Tarrant | C35: 229 | D35: 234 | E35: 234 | F35: 179 | G35: 202 | H35: 202 | I35: 202 | J35: 160 | K35: 10 | L35: 10 | M35: 10 | N35: 7 | S35: 7 | T35: 7 | U35: 7 | V35: 7 | AA35: 133 | AB35: 133 | AC35: 133 | AD35: 93 | AI35: =SUM(C35,G35,K35,O35,S35,W35,AA35,AE35) -> 581 | AJ35: =SUM(D35,H35,L35,P35,T35,X35,AB35,AF35) -> 586 | AK35: =SUM(E35,I35,M35,Q35,U35,Y35,AC35,AG35) -> 586 | AL35: =SUM(F35,J35,N35,R35,V35,Z35,AD35,AH35) -> 446
A36: University of Texas at Austin | B36: Travis | S36: 17 | T36: 18 | U36: 17 | V36: 9 | AA36: 29 | AB36: 31 | AC36: 29 | AD36: 24 | AE36: 48 | AF36: 61 | AG36: 48 | AH36: 44 | AI36: =SUM(C36,G36,K36,O36,S36,W36,AA36,AE36) -> 94 | AJ36: =SUM(D36,H36,L36,P36,T36,X36,AB36,AF36) -> 110 | AK36: =SUM(E36,I36,M36,Q36,U36,Y36,AC36,AG36) -> 94 | AL36: =SUM(F36,J36,N36,R36,V36,Z36,AD36,AH36) -> 77
A37: University of Texas at El Paso | B37: El Paso | C37: 26 | D37: 26 | E37: 26 | F37: 22 | G37: 27 | H37: 27 | I37: 27 | J37: 19 | AA37: 12 | AB37: 12 | AC37: 12 | AD37: 8 | AI37: =SUM(C37,G37,K37,O37,S37,W37,AA37,AE37) -> 65 | AJ37: =SUM(D37,H37,L37,P37,T37,X37,AB37,AF37) -> 65 | AK37: =SUM(E37,I37,M37,Q37,U37,Y37,AC37,AG37) -> 65 | AL37: =SUM(F37,J37,N37,R37,V37,Z37,AD37,AH37) -> 49
A38: University of Texas at Tyler | B38: Smith | C38: 70 | D38: 71 | E38: 70 | F38: 60 | G38: 61 | H38: 62 | I38: 61 | J38: 46 | K38: 107 | L38: 107 | M38: 107 | N38: 81 | S38: 12 | T38: 23 | U38: 12 | V38: 8 | AA38: 59 | AB38: 65 | AC38: 59 | AD38: 44 | AI38: =SUM(C38,G38,K38,O38,S38,W38,AA38,AE38) -> 309 | AJ38: =SUM(D38,H38,L38,P38,T38,X38,AB38,AF38) -> 328 | AK38: =SUM(E38,I38,M38,Q38,U38,Y38,AC38,AG38) -> 309 | AL38: =SUM(F38,J38,N38,R38,V38,Z38,AD38,AH38) -> 239
A39: University of Texas Health Science Center at Houston | B39: Harris | C39: 33 | D39: 15 | E39: 15 | F39: 12 | G39: 4 | H39: 4 | I39: 4 | J39: 4 | K39: 0 | L39: 1 | M39: 1 | N39: 1 | S39: 12 | T39: 10 | U39: 10 | V39: 6 | AA39: 15 | AB39: 16 | AC39: 16 | AD39: 13 | AI39: =SUM(C39,G39,K39,O39,S39,W39,AA39,AE39) -> 64 | AJ39: =SUM(D39,H39,L39,P39,T39,X39,AB39,AF39) -> 46 | AK39: =SUM(E39,I39,M39,Q39,U39,Y39,AC39,AG39) -> 46 | AL39: =SUM(F39,J39,N39,R39,V39,Z39,AD39,AH39) -> 36
A40: University of Texas Medical Branch | B40: Galveston | C40: 7 | D40: 10 | E40: 10 | F40: 7 | G40: 20 | H40: 23 | I40: 23 | J40: 20 | O40: 0 | P40: 3 | Q40: 3 | R40: 0 | S40: 7 | T40: 11 | U40: 11 | V40: 7 | AA40: 14 | AB40: 26 | AC40: 24 | AD40: 14 | AE40: 30 | AF40: 39 | AG40: 37 | AH40: 30 | AI40: =SUM(C40,G40,K40,O40,S40,W40,AA40,AE40) -> 78 | AJ40: =SUM(D40,H40,L40,P40,T40,X40,AB40,AF40) -> 112 | AK40: =SUM(E40,I40,M40,Q40,U40,Y40,AC40,AG40) -> 108 | AL40: =SUM(F40,J40,N40,R40,V40,Z40,AD40,AH40) -> 78
A41: University of Texas Rio Grande Valley | B41: Hidalgo | C41: 0 | D41: 0 | E41: 0 | F41: 0 | G41: 0 | H41: 0 | I41: 0 | J41: 0 | AA41: 15 | AB41: 6 | AC41: 5 | AD41: 3 | AI41: =SUM(C41,G41,K41,O41,S41,W41,AA41,AE41) -> 15 | AJ41: =SUM(D41,H41,L41,P41,T41,X41,AB41,AF41) -> 6 | AK41: =SUM(E41,I41,M41,Q41,U41,Y41,AC41,AG41) -> 5 | AL41: =SUM(F41,J41,N41,R41,V41,Z41,AD41,AH41) -> 3
A42: University of the Incarnate Word | B42: Bexar | C42: 32 | D42: 5 | E42: 4 | F42: 1 | AI42: =SUM(C42,G42,K42,O42,S42,W42,AA42,AE42) -> 32 | AJ42: =SUM(D42,H42,L42,P42,T42,X42,AB42,AF42) -> 5 | AK42: =SUM(E42,I42,M42,Q42,U42,Y42,AC42,AG42) -> 4 | AL42: =SUM(F42,J42,N42,R42,V42,Z42,AD42,AH42) -> 1
A43: Wayland Baptist University | B43: Bexar | G43: 20 | H43: 4 | I43: 4 | J43: 4 | AI43: =SUM(C43,G43,K43,O43,S43,W43,AA43,AE43) -> 20 | AJ43: =SUM(D43,H43,L43,P43,T43,X43,AB43,AF43) -> 4 | AK43: =SUM(E43,I43,M43,Q43,U43,Y43,AC43,AG43) -> 4 | AL43: =SUM(F43,J43,N43,R43,V43,Z43,AD43,AH43) -> 4
A44: West Texas A&M University | B44: Randall | C44: 80 | D44: 0 | E44: 0 | F44: 0 | G44: 80 | H44: 4 | I44: 4 | J44: 4 | AI44: =SUM(C44,G44,K44,O44,S44,W44,AA44,AE44) -> 160 | AJ44: =SUM(D44,H44,L44,P44,T44,X44,AB44,AF44) -> 4 | AK44: =SUM(E44,I44,M44,Q44,U44,Y44,AC44,AG44) -> 4 | AL44: =SUM(F44,J44,N44,R44,V44,Z44,AD44,AH44) -> 4
A45: TOTAL- ALL PROGRAMS | C45: =SUM(C5:C44) -> 1072 | D45: =SUM(D5:D44) -> 665 | E45: =SUM(E5:E44) -> 657 | F45: =SUM(F5:F44) -> 531 | G45: =SUM(G5:G44) -> 752 | H45: =SUM(H5:H44) -> 503 | I45: =SUM(I5:I44) -> 500 | J45: =SUM(J5:J44) -> 390 | ... XFD45: =SUM(XFD5:XFD44) -> 0
AK46: Qualified applications not offered admissions = 1,131
A47: Legend for abbreviations
A48: APRN-Advanced Practice Registered Nurse, includes four program tracks including: Nurse Practitioner, Clinical Nurse Specialist, Nurse Anesthetist, and Nurse-Midwife
A49: Seats = seats for new students
A50: Offr'd Adm - the number of students offered admission
A51: Qual App - the number of qualified applicants
A52: Reg & enroll - the number of students registered and enrolled
A54: Notes: All data are obtained from self-reports from graduate nursing programs on the 2025 Board of Nursing's (BON) Nursing Education Program Information Survey (NEPIS). Included are enrollment, graduation, and admissions data for all graduate nursing education programs. This includes master's, post-graduate certificate, DNP/DNAP, PhD, and other doctoral programs. Reasons that qualified applicants were not offered admission are included in the 2025 GNEPIS fact sheets available on the TCNWS publications site: www.dshs.texas.gov/nursingworkforce/Nursing-Education-Reports/

Sheet Total Admissions
A1: Program Name | B1: County | C1: ADMISSIONS
C2: Academic Year 2024-2025
C3: Total APRN | G3: Total Graduate | K3: Total-ALL
C4: Seats | D4: Qual App | E4: Offr'd Adm | F4: Reg & enroll | G4: Seats | H4: Qual App | I4: Offr'd Adm | J4: Reg & enroll | K4: Seats | L4: Qual App | M4: Offr'd Adm | N4: Reg & enroll
A5: Abilene Christian University | B5: Dallas | C5: ='APRN Admissions'!S5 -> 0 | D5: ='APRN Admissions'!T5 -> 0 | E5: ='APRN Admissions'!U5 -> 0 | F5: ='APRN Admissions'!V5 -> 0 | G5: ='Non-APRN Admissions'!AI5 -> 75 | H5: ='Non-APRN Admissions'!AJ5 -> 17 | I5: ='Non-APRN Admissions'!AK5 -> 17 | J5: ='Non-APRN Admissions'!AL5 -> 12 | K5: =SUM(C5,G5) -> 75 | L5: =SUM(D5,H5) -> 17 | M5: =SUM(E5,I5) -> 17 | N5: =SUM(F5,J5) -> 12
A6: Angelo State University | B6: Tom Green | C6: ='APRN Admissions'!S6 -> 35 | D6: ='APRN Admissions'!T6 -> 33 | E6: ='APRN Admissions'!U6 -> 32 | F6: ='APRN Admissions'!V6 -> 28 | G6: ='Non-APRN Admissions'!AI6 -> 15 | H6: ='Non-APRN Admissions'!AJ6 -> 2 | I6: ='Non-APRN Admissions'!AK6 -> 2 | J6: ='Non-APRN Admissions'!AL6 -> 2 | K6: =SUM(C6,G6) -> 50 | L6: =SUM(D6,H6) -> 35 | M6: =SUM(E6,I6) -> 34 | N6: =SUM(F6,J6) -> 30
A7: Baylor College of Medicine Doctor of Nursing Practice Program-Nurse Anesthesia | B7: Harris | C7: ='APRN Admissions'!S7 -> 31 | D7: ='APRN Admissions'!T7 -> 60 | E7: ='APRN Admissions'!U7 -> 46 | F7: ='APRN Admissions'!V7 -> 31 | G7: ='Non-APRN Admissions'!AI7 -> 0 | H7: ='Non-APRN Admissions'!AJ7 -> 0 | I7: ='Non-APRN Admissions'!AK7 -> 0 | J7: ='Non-APRN Admissions'!AL7 -> 0 | K7: =SUM(C7,G7) -> 31 | L7: =SUM(D7,H7) -> 60 | M7: =SUM(E7,I7) -> 46 | N7: =SUM(F7,J7) -> 31
A8: Baylor University Louise Herrington School of Nursing | B8: Dallas | C8: ='APRN Admissions'!S8 -> 360 | D8: ='APRN Admissions'!T8 -> 517 | E8: ='APRN Admissions'!U8 -> 445 | F8: ='APRN Admissions'!V8 -> 301 | G8: ='Non-APRN Admissions'!AI8 -> 60 | H8: ='Non-APRN Admissions'!AJ8 -> 31 | I8: ='Non-APRN Admissions'!AK8 -> 28 | J8: ='Non-APRN Admissions'!AL8 -> 26 | K8: =SUM(C8,G8) -> 420 | L8: =SUM(D8,H8) -> 548 | M8: =SUM(E8,I8) -> 473 | N8: =SUM(F8,J8) -> 327
A9: East Texas A&M University | B9: Hunt | C9: ='APRN Admissions'!S9 -> 6 | D9: ='APRN Admissions'!T9 -> 6 | E9: ='APRN Admissions'!U9 -> 6 | F9: ='APRN Admissions'!V9 -> 3 | G9: ='Non-APRN Admissions'!AI9 -> 0 | H9: ='Non-APRN Admissions'!AJ9 -> 0 | I9: ='Non-APRN Admissions'!AK9 -> 0 | J9: ='Non-APRN Admissions'!AL9 -> 0 | K9: =SUM(C9,G9) -> 6 | L9: =SUM(D9,H9) -> 6 | M9: =SUM(E9,I9) -> 6 | N9: =SUM(F9,J9) -> 3
A10: Houston Christian University | B10: Harris | C10: ='APRN Admissions'!S10 -> 70 | D10: ='APRN Admissions'!T10 -> 22 | E10: ='APRN Admissions'!U10 -> 22 | F10: ='APRN Admissions'!V10 -> 22 | G10: ='Non-APRN Admissions'!AI10 -> 20 | H10: ='Non-APRN Admissions'!AJ10 -> 3 | I10: ='Non-APRN Admissions'!AK10 -> 3 | J10: ='Non-APRN Admissions'!AL10 -> 3 | K10: =SUM(C10,G10) -> 90 | L10: =SUM(D10,H10) -> 25 | M10: =SUM(E10,I10) -> 25 | N10: =SUM(F10,J10) -> 25
A11: Lamar University | B11: Jefferson | C11: ='APRN Admissions'!S11 -> 0 | D11: ='APRN Admissions'!T11 -> 0 | E11: ='APRN Admissions'!U11 -> 0 | F11: ='APRN Admissions'!V11 -> 0 | G11: ='Non-APRN Admissions'!AI11 -> 35 | H11: ='Non-APRN Admissions'!AJ11 -> 35 | I11: ='Non-APRN Admissions'!AK11 -> 35 | J11: ='Non-APRN Admissions'!AL11 -> 35 | K11: =SUM(C11,G11) -> 35 | L11: =SUM(D11,H11) -> 35 | M11: =SUM(E11,I11) -> 35 | N11: =SUM(F11,J11) -> 35
A12: Lubbock Christian University | B12: Lubbock | C12: ='APRN Admissions'!S12 -> 35 | D12: ='APRN Admissions'!T12 -> 13 | E12: ='APRN Admissions'!U12 -> 13 | F12: ='APRN Admissions'!V12 -> 13 | G12: ='Non-APRN Admissions'!AI12 -> 57 | H12: ='Non-APRN Admissions'!AJ12 -> 45 | I12: ='Non-APRN Admissions'!AK12 -> 45 | J12: ='Non-APRN Admissions'!AL12 -> 45 | K12: =SUM(C12,G12) -> 92 | L12: =SUM(D12,H12) -> 58 | M12: =SUM(E12,I12) -> 58 | N12: =SUM(F12,J12) -> 58
A13: Midwestern State University | B13: Wichita | C13: ='APRN Admissions'!S13 -> 60 | D13: ='APRN Admissions'!T13 -> 34 | E13: ='APRN Admissions'!U13 -> 34 | F13: ='APRN Admissions'!V13 -> 24 | G13: ='Non-APRN Admissions'!AI13 -> 0 | H13: ='Non-APRN Admissions'!AJ13 -> 0 | I13: ='Non-APRN Admissions'!AK13 -> 0 | J13: ='Non-APRN Admissions'!AL13 -> 0 | K13: =SUM(C13,G13) -> 60 | L13: =SUM(D13,H13) -> 34 | M13: =SUM(E13,I13) -> 34 | N13: =SUM(F13,J13) -> 24
A14: Patty Hanks Shelton School of Nursing | B14: Taylor | C14: ='APRN Admissions'!S14 -> 20 | D14: ='APRN Admissions'!T14 -> 0 | E14: ='APRN Admissions'!U14 -> 0 | F14: ='APRN Admissions'!V14 -> 0 | G14: ='Non-APRN Admissions'!AI14 -> 20 | H14: ='Non-APRN Admissions'!AJ14 -> 0 | I14: ='Non-APRN Admissions'!AK14 -> 0 | J14: ='Non-APRN Admissions'!AL14 -> 0 | K14: =SUM(C14,G14) -> 40 | L14: =SUM(D14,H14) -> 0 | M14: =SUM(E14,I14) -> 0 | N14: =SUM(F14,J14) -> 0
A15: Prairie View A&M University | B15: Harris | C15: ='APRN Admissions'!S15 -> 180 | D15: ='APRN Admissions'!T15 -> 25 | E15: ='APRN Admissions'!U15 -> 25 | F15: ='APRN Admissions'!V15 -> 25 | G15: ='Non-APRN Admissions'!AI15 -> 90 | H15: ='Non-APRN Admissions'!AJ15 -> 2 | I15: ='Non-APRN Admissions'!AK15 -> 2 | J15: ='Non-APRN Admissions'!AL15 -> 2 | K15: =SUM(C15,G15) -> 270 | L15: =SUM(D15,H15) -> 27 | M15: =SUM(E15,I15) -> 27 | N15: =SUM(F15,J15) -> 27
A16: Schreiner University | B16: Kerr | C16: ='APRN Admissions'!S16 -> 60 | D16: ='APRN Admissions'!T16 -> 10 | E16: ='APRN Admissions'!U16 -> 10 | F16: ='APRN Admissions'!V16 -> 10 | G16: ='Non-APRN Admissions'!AI16 -> 0 | H16: ='Non-APRN Admissions'!AJ16 -> 0 | I16: ='Non-APRN Admissions'!AK16 -> 0 | J16: ='Non-APRN Admissions'!AL16 -> 0 | K16: =SUM(C16,G16) -> 60 | L16: =SUM(D16,H16) -> 10 | M16: =SUM(E16,I16) -> 10 | N16: =SUM(F16,J16) -> 10
... A44: West Texas A&M University | B44: Randall | C44: ='APRN Admissions'!S44 -> 160 | D44: ='APRN Admissions'!T44 -> 41 | E44: ='APRN Admissions'!U44 -> 41 | F44: ='APRN Admissions'!V44 -> 41 | G44: ='Non-APRN Admissions'!AI44 -> 160 | H44: ='Non-APRN Admissions'!AJ44 -> 4 | I44: ='Non-APRN Admissions'!AK44 -> 4 | J44: ='Non-APRN Admissions'!AL44 -> 4 | K44: =SUM(C44,G44) -> 320 | L44: =SUM(D44,H44) -> 45 | M44: =SUM(E44,I44) -> 45 | N44: =SUM(F44,J44) -> 45
A45: TOTAL- ALL PROGRAMS | C45: =SUM(C5:C44) -> 6646 | D45: =SUM(D5:D44) -> 7081 | E45: =SUM(E5:E44) -> 6198 | F45: =SUM(F5:F44) -> 4836 | G45: =SUM(G5:G44) -> 2549 | H45: =SUM(H5:H44) -> 1911 | I45: =SUM(I5:I44) -> 1853 | J45: =SUM(J5:J44) -> 1450 | ... N45: =SUM(N5:N44) -> 6286
I46: Qualified applications not offered admissions = 1,131
A47: Legend for abbreviations
A48: APRN-Advanced Practice Registered Nurse, includes four program tracks including: Nurse Practitioner, Clinical Nurse Specialist, Nurse Anesthetist, and Nurse-Midwife
A49: Seats = seats for new students
A50: Offr'd Adm - the number of students offered admission
A51: Qual App - the number of qualified applicants
A52: Reg & enroll - the number of students registered and enrolled
A54: Notes: All data are obtained from self-reports from graduate nursing programs on the 2025 Board of Nursing's (BON) Nursing Education Program Information Survey (NEPIS). Included are enrollment, graduation, and admissions data for all graduate nursing education programs. This includes master's, post-graduate certificate, DNP/DNAP, PhD, and other doctoral programs. Reasons that qualified applicants were not offered admission are included in the 2025 GNEPIS fact sheets available on the TCNWS publications site: www.dshs.texas.gov/nursingworkforce/Nursing-Education-Reports/
